BEGIN:VCALENDAR
VERSION:2.0
CALSCALE:GREGORIAN
METHOD:PUBLISH
X-WR-TIMEZONE:Australia/Sydney
BEGIN:VTIMEZONE
TZID:Australia/Sydney
BEGIN:STANDARD
TZNAME:AEST
DTSTART:19700101T000000
TZOFFSETFROM:+1100
TZOFFSETTO:+1000
END:STANDARD
END:VTIMEZONE
BEGIN:VEVENT
DTSTART;TZID=Australia/Sydney:20260323
DTEND;TZID=Australia/Sydney:20260323
DTSTAMP:20260423T234004
UID:692
SUMMARY:Premier&#039;s Reading Challenge Begins
DESCRIPTION:




The Premier&amp;rsquo;s Reading Challenge encourages students to discover the joy of reading, improve their literacy skills and enjoy amazing stories. The challenge runs for 12 weeks from 23 March to 12 June 2026.&amp;nbsp;


SEQUENCE:0
STATUS:CONFIRMED
TRANSP:OPAQUE
END:VEVENT
END:VCALENDAR